Package: biomvRCNS Version: 1.46.0 Command: /home/biocbuild/R/R/bin/R CMD INSTALL biomvRCNS StartedAt: 2025-01-30 20:43:54 -0000 (Thu, 30 Jan 2025) EndedAt: 2025-01-30 20:45:02 -0000 (Thu, 30 Jan 2025) EllapsedTime: 67.3 seconds RetCode: 0 Status: OK