Package: biomvRCNS Version: 1.46.0 Command: /home/biocbuild/R/R/bin/R CMD build --keep-empty-dirs --no-resave-data biomvRCNS StartedAt: 2025-01-30 22:07:03 -0000 (Thu, 30 Jan 2025) EndedAt: 2025-01-30 22:09:09 -0000 (Thu, 30 Jan 2025) EllapsedTime: 126.0 seconds RetCode: 0 Status: OK PackageFile: biomvRCNS_1.46.0.tar.gz PackageFileSize: 795.4 KiB