Package: biomvRCNS Version: 1.46.0 Command: F:\biocbuild\bbs-3.20-bioc\R\bin\R.exe CMD INSTALL biomvRCNS StartedAt: 2025-01-30 16:19:00 -0500 (Thu, 30 Jan 2025) EndedAt: 2025-01-30 16:20:10 -0500 (Thu, 30 Jan 2025) EllapsedTime: 69.8 seconds RetCode: 0 Status: OK