Package: biomvRCNS Version: 1.46.0 Command: F:\biocbuild\bbs-3.20-bioc\R\bin\R.exe CMD check --no-multiarch --install=check:biomvRCNS.install-out.txt --library=F:\biocbuild\bbs-3.20-bioc\R\library --no-vignettes --timings biomvRCNS_1.46.0.tar.gz StartedAt: 2025-01-30 23:55:40 -0500 (Thu, 30 Jan 2025) EndedAt: 2025-01-31 00:02:39 -0500 (Fri, 31 Jan 2025) EllapsedTime: 418.5 seconds RetCode: 0 Status: OK CheckDir: biomvRCNS.Rcheck Warnings: 0