Package: biomvRCNS Version: 1.46.0 Command: chmod a+r biomvRCNS -R && F:\biocbuild\bbs-3.20-bioc\R\bin\R.exe CMD build --keep-empty-dirs --no-resave-data biomvRCNS StartedAt: 2025-03-31 17:39:15 -0400 (Mon, 31 Mar 2025) EndedAt: 2025-03-31 17:41:53 -0400 (Mon, 31 Mar 2025) EllapsedTime: 157.7 seconds RetCode: 0 Status: OK PackageFile: biomvRCNS_1.46.0.tar.gz PackageFileSize: 566.7 KiB