Package: biomvRCNS Version: 1.46.0 Command: rm -rf biomvRCNS.buildbin-libdir && mkdir biomvRCNS.buildbin-libdir && F:\biocbuild\bbs-3.20-bioc\R\bin\R.exe CMD INSTALL --build --library=biomvRCNS.buildbin-libdir biomvRCNS_1.46.0.tar.gz StartedAt: 2025-02-04 08:04:48 -0500 (Tue, 04 Feb 2025) EndedAt: 2025-02-04 08:06:00 -0500 (Tue, 04 Feb 2025) EllapsedTime: 71.6 seconds RetCode: 0 Status: OK PackageFile: biomvRCNS_1.46.0.zip PackageFileSize: 1.032 MiB