Package: biomformat Version: 1.34.0 Command: rm -rf biomformat.buildbin-libdir && mkdir biomformat.buildbin-libdir && F:\biocbuild\bbs-3.20-bioc\R\bin\R.exe CMD INSTALL --build --library=biomformat.buildbin-libdir biomformat_1.34.0.tar.gz StartedAt: 2025-02-11 08:01:19 -0500 (Tue, 11 Feb 2025) EndedAt: 2025-02-11 08:01:48 -0500 (Tue, 11 Feb 2025) EllapsedTime: 29.0 seconds RetCode: 0 Status: OK PackageFile: biomformat_1.34.0.zip PackageFileSize: 470.4 KiB