Package: biomformat Version: 1.34.0 Command: /Library/Frameworks/R.framework/Resources/bin/R CMD INSTALL biomformat StartedAt: 2025-02-10 15:14:48 -0500 (Mon, 10 Feb 2025) EndedAt: 2025-02-10 15:15:03 -0500 (Mon, 10 Feb 2025) EllapsedTime: 15.2 seconds RetCode: 0 Status: OK