Package: biomformat Version: 1.34.0 Command: /Library/Frameworks/R.framework/Resources/bin/R CMD build --keep-empty-dirs --no-resave-data biomformat StartedAt: 2025-02-10 17:19:29 -0500 (Mon, 10 Feb 2025) EndedAt: 2025-02-10 17:19:57 -0500 (Mon, 10 Feb 2025) EllapsedTime: 28.2 seconds RetCode: 0 Status: OK PackageFile: biomformat_1.34.0.tar.gz PackageFileSize: 299.8 KiB