Package: biomformat Version: 1.34.0 Command: rm -rf biomformat.buildbin-libdir && mkdir biomformat.buildbin-libdir && /Users/biocbuild/BBS/utils/build-universal.sh biomformat_1.34.0.tar.gz /Library/Frameworks/R.framework/Resources/bin/R biomformat.buildbin-libdir StartedAt: 2025-02-11 12:47:00 -0500 (Tue, 11 Feb 2025) EndedAt: 2025-02-11 12:47:17 -0500 (Tue, 11 Feb 2025) EllapsedTime: 17.1 seconds RetCode: 0 Status: OK PackageFile: biomformat_1.34.0.tgz PackageFileSize: 496.3 KiB