Package: biomaRt Version: 2.62.1 Command: /Library/Frameworks/R.framework/Resources/bin/R CMD build --keep-empty-dirs --no-resave-data biomaRt StartedAt: 2025-02-03 17:26:15 -0500 (Mon, 03 Feb 2025) EndedAt: 2025-02-03 17:28:51 -0500 (Mon, 03 Feb 2025) EllapsedTime: 156.3 seconds RetCode: 0 Status: OK PackageFile: biomaRt_2.62.1.tar.gz PackageFileSize: 843.2 KiB