Package: biodbNci Version: 1.10.0 Command: /Library/Frameworks/R.framework/Resources/bin/R CMD INSTALL biodbNci StartedAt: 2025-01-27 17:09:07 -0500 (Mon, 27 Jan 2025) EndedAt: 2025-01-27 17:09:36 -0500 (Mon, 27 Jan 2025) EllapsedTime: 28.2 seconds RetCode: 0 Status: OK