Package: biodbNcbi Version: 1.10.0 Command: chmod a+r biodbNcbi -R && F:\biocbuild\bbs-3.20-bioc\R\bin\R.exe CMD build --keep-empty-dirs --no-resave-data biodbNcbi StartedAt: 2025-03-31 17:38:34 -0400 (Mon, 31 Mar 2025) EndedAt: 2025-03-31 17:39:22 -0400 (Mon, 31 Mar 2025) EllapsedTime: 47.7 seconds RetCode: 0 Status: OK PackageFile: biodbNcbi_1.10.0.tar.gz PackageFileSize: 733.3 KiB