Package: biodbNcbi Version: 1.10.0 Command: rm -rf biodbNcbi.buildbin-libdir && mkdir biodbNcbi.buildbin-libdir && F:\biocbuild\bbs-3.20-bioc\R\bin\R.exe CMD INSTALL --build --library=biodbNcbi.buildbin-libdir biodbNcbi_1.10.0.tar.gz StartedAt: 2025-04-01 07:46:15 -0400 (Tue, 01 Apr 2025) EndedAt: 2025-04-01 07:46:44 -0400 (Tue, 01 Apr 2025) EllapsedTime: 29.4 seconds RetCode: 0 Status: OK PackageFile: biodbNcbi_1.10.0.zip PackageFileSize: 1.144 MiB