Package: biodbNcbi Version: 1.10.0 Command: /Library/Frameworks/R.framework/Resources/bin/R CMD build --keep-empty-dirs --no-resave-data biodbNcbi StartedAt: 2025-01-27 17:24:28 -0500 (Mon, 27 Jan 2025) EndedAt: 2025-01-27 17:25:21 -0500 (Mon, 27 Jan 2025) EllapsedTime: 52.5 seconds RetCode: 0 Status: OK PackageFile: biodbNcbi_1.10.0.tar.gz PackageFileSize: 733.3 KiB