Package: biodbNcbi Version: 1.10.0 Command: /Library/Frameworks/R.framework/Resources/bin/R CMD INSTALL biodbNcbi StartedAt: 2025-03-31 17:04:13 -0400 (Mon, 31 Mar 2025) EndedAt: 2025-03-31 17:04:25 -0400 (Mon, 31 Mar 2025) EllapsedTime: 12.5 seconds RetCode: 0 Status: OK