Package: biodbKegg Version: 1.12.0 Command: /home/biocbuild/R/R/bin/R CMD build --keep-empty-dirs --no-resave-data biodbKegg StartedAt: 2025-01-30 22:05:13 -0000 (Thu, 30 Jan 2025) EndedAt: 2025-01-30 22:06:33 -0000 (Thu, 30 Jan 2025) EllapsedTime: 80.0 seconds RetCode: 0 Status: OK PackageFile: biodbKegg_1.12.0.tar.gz PackageFileSize: 648.5 KiB