Package: biodbKegg Version: 1.12.0 Command: /Library/Frameworks/R.framework/Resources/bin/R CMD INSTALL biodbKegg StartedAt: 2025-03-31 16:14:04 -0400 (Mon, 31 Mar 2025) EndedAt: 2025-03-31 16:14:40 -0400 (Mon, 31 Mar 2025) EllapsedTime: 36.3 seconds RetCode: 0 Status: OK