Package: biodbKegg Version: 1.12.0 Command: /Library/Frameworks/R.framework/Resources/bin/R CMD check --install=check:biodbKegg.install-out.txt --library=/Library/Frameworks/R.framework/Resources/library --no-vignettes --timings biodbKegg_1.12.0.tar.gz StartedAt: 2025-01-31 12:28:04 -0500 (Fri, 31 Jan 2025) EndedAt: 2025-01-31 12:56:46 -0500 (Fri, 31 Jan 2025) EllapsedTime: 1721.8 seconds RetCode: 1 Status: ERROR CheckDir: biodbKegg.Rcheck Warnings: NA