Package: biodbKegg Version: 1.12.0 Command: /Library/Frameworks/R.framework/Resources/bin/R CMD build --keep-empty-dirs --no-resave-data biodbKegg StartedAt: 2025-01-30 19:44:35 -0500 (Thu, 30 Jan 2025) EndedAt: 2025-01-30 19:45:51 -0500 (Thu, 30 Jan 2025) EllapsedTime: 76.3 seconds RetCode: 0 Status: OK PackageFile: biodbKegg_1.12.0.tar.gz PackageFileSize: 628.8 KiB