Package: biodbHmdb Version: 1.12.0 Command: /home/biocbuild/R/R/bin/R CMD check --install=check:biodbHmdb.install-out.txt --library=/home/biocbuild/R/R/site-library --no-vignettes --timings biodbHmdb_1.12.0.tar.gz StartedAt: 2025-01-28 05:02:05 -0000 (Tue, 28 Jan 2025) EndedAt: 2025-01-28 05:16:55 -0000 (Tue, 28 Jan 2025) EllapsedTime: 889.3 seconds RetCode: 0 Status: WARNINGS CheckDir: biodbHmdb.Rcheck Warnings: 2