Package: biodbHmdb Version: 1.12.0 Command: /Library/Frameworks/R.framework/Resources/bin/R CMD INSTALL biodbHmdb StartedAt: 2025-03-31 17:03:55 -0400 (Mon, 31 Mar 2025) EndedAt: 2025-03-31 17:04:31 -0400 (Mon, 31 Mar 2025) EllapsedTime: 36.6 seconds RetCode: 0 Status: OK