Package: biodbExpasy Version: 1.10.0 Command: /home/biocbuild/R/R/bin/R CMD build --keep-empty-dirs --no-resave-data biodbExpasy StartedAt: 2025-03-31 21:47:38 -0000 (Mon, 31 Mar 2025) EndedAt: 2025-03-31 21:48:12 -0000 (Mon, 31 Mar 2025) EllapsedTime: 34.0 seconds RetCode: 0 Status: OK PackageFile: biodbExpasy_1.10.0.tar.gz PackageFileSize: 369.1 KiB