Package: biodbExpasy Version: 1.10.0 Command: F:\biocbuild\bbs-3.20-bioc\R\bin\R.exe CMD INSTALL biodbExpasy StartedAt: 2025-02-03 16:08:51 -0500 (Mon, 03 Feb 2025) EndedAt: 2025-02-03 16:09:04 -0500 (Mon, 03 Feb 2025) EllapsedTime: 13.0 seconds RetCode: 0 Status: OK