Package: biodbExpasy Version: 1.10.0 Command: chmod a+r biodbExpasy -R && F:\biocbuild\bbs-3.20-bioc\R\bin\R.exe CMD build --keep-empty-dirs --no-resave-data biodbExpasy StartedAt: 2025-02-03 17:47:11 -0500 (Mon, 03 Feb 2025) EndedAt: 2025-02-03 17:47:55 -0500 (Mon, 03 Feb 2025) EllapsedTime: 43.6 seconds RetCode: 0 Status: OK PackageFile: biodbExpasy_1.10.0.tar.gz PackageFileSize: 304 KiB