Package: biodbExpasy Version: 1.10.0 Command: rm -rf biodbExpasy.buildbin-libdir && mkdir biodbExpasy.buildbin-libdir && F:\biocbuild\bbs-3.20-bioc\R\bin\R.exe CMD INSTALL --build --library=biodbExpasy.buildbin-libdir biodbExpasy_1.10.0.tar.gz StartedAt: 2025-02-04 08:04:13 -0500 (Tue, 04 Feb 2025) EndedAt: 2025-02-04 08:04:37 -0500 (Tue, 04 Feb 2025) EllapsedTime: 24.1 seconds RetCode: 0 Status: OK PackageFile: biodbExpasy_1.10.0.zip PackageFileSize: 394.4 KiB