Package: biodbExpasy Version: 1.10.0 Command: /Library/Frameworks/R.framework/Resources/bin/R CMD check --install=check:biodbExpasy.install-out.txt --library=/Library/Frameworks/R.framework/Resources/library --no-vignettes --timings biodbExpasy_1.10.0.tar.gz StartedAt: 2025-01-28 00:33:11 -0500 (Tue, 28 Jan 2025) EndedAt: 2025-01-28 00:35:16 -0500 (Tue, 28 Jan 2025) EllapsedTime: 125.1 seconds RetCode: 1 Status: ERROR CheckDir: biodbExpasy.Rcheck Warnings: NA