Package: biodbChebi Version: 1.12.0 Command: /home/biocbuild/R/R/bin/R CMD INSTALL biodbChebi StartedAt: 2025-03-31 20:57:39 -0000 (Mon, 31 Mar 2025) EndedAt: 2025-03-31 20:57:48 -0000 (Mon, 31 Mar 2025) EllapsedTime: 9.3 seconds RetCode: 0 Status: OK