Package: biodbChebi Version: 1.12.0 Command: /home/biocbuild/R/R/bin/R CMD check --install=check:biodbChebi.install-out.txt --library=/home/biocbuild/R/R/site-library --no-vignettes --timings biodbChebi_1.12.0.tar.gz StartedAt: 2025-04-01 04:18:27 -0000 (Tue, 01 Apr 2025) EndedAt: 2025-04-01 04:35:01 -0000 (Tue, 01 Apr 2025) EllapsedTime: 993.8 seconds RetCode: 0 Status: OK CheckDir: biodbChebi.Rcheck Warnings: 0