Package: biodb Version: 1.14.0 Command: /home/biocbuild/R/R/bin/R CMD INSTALL biodb StartedAt: 2025-02-03 21:02:29 -0000 (Mon, 03 Feb 2025) EndedAt: 2025-02-03 21:03:52 -0000 (Mon, 03 Feb 2025) EllapsedTime: 83.0 seconds RetCode: 0 Status: OK