Package: biodb Version: 1.14.0 Command: /home/biocbuild/R/R/bin/R CMD check --install=check:biodb.install-out.txt --library=/home/biocbuild/R/R/site-library --no-vignettes --timings biodb_1.14.0.tar.gz StartedAt: 2025-02-04 04:51:38 -0000 (Tue, 04 Feb 2025) EndedAt: 2025-02-04 05:09:10 -0000 (Tue, 04 Feb 2025) EllapsedTime: 1052.0 seconds RetCode: 0 Status: WARNINGS CheckDir: biodb.Rcheck Warnings: 1