Package: biodb Version: 1.14.0 Command: /home/biocbuild/bbs-3.20-bioc/R/bin/R CMD INSTALL biodb StartedAt: 2025-02-10 15:44:55 -0500 (Mon, 10 Feb 2025) EndedAt: 2025-02-10 15:45:54 -0500 (Mon, 10 Feb 2025) EllapsedTime: 59.2 seconds RetCode: 0 Status: OK