Package: biodb Version: 1.14.0 Command: /Library/Frameworks/R.framework/Resources/bin/R CMD INSTALL biodb StartedAt: 2025-01-27 16:11:58 -0500 (Mon, 27 Jan 2025) EndedAt: 2025-01-27 16:14:18 -0500 (Mon, 27 Jan 2025) EllapsedTime: 140.1 seconds RetCode: 0 Status: OK