Package: biodb Version: 1.14.0 Command: rm -rf biodb.buildbin-libdir && mkdir biodb.buildbin-libdir && /Users/biocbuild/BBS/utils/build-universal.sh biodb_1.14.0.tar.gz /Library/Frameworks/R.framework/Resources/bin/R biodb.buildbin-libdir StartedAt: 2025-01-28 12:42:36 -0500 (Tue, 28 Jan 2025) EndedAt: 2025-01-28 12:45:06 -0500 (Tue, 28 Jan 2025) EllapsedTime: 150.1 seconds RetCode: 0 Status: OK PackageFile: biodb_1.14.0.tgz PackageFileSize: 4.426 MiB