Package: biodb Version: 1.14.0 Command: /Library/Frameworks/R.framework/Resources/bin/R CMD build --keep-empty-dirs --no-resave-data biodb StartedAt: 2025-02-10 19:44:53 -0500 (Mon, 10 Feb 2025) EndedAt: 2025-02-10 19:46:31 -0500 (Mon, 10 Feb 2025) EllapsedTime: 97.7 seconds RetCode: 0 Status: OK PackageFile: biodb_1.14.0.tar.gz PackageFileSize: 1.809 MiB