Package: biodb Version: 1.14.0 Command: rm -rf biodb.buildbin-libdir && mkdir biodb.buildbin-libdir && /Users/biocbuild/BBS/utils/build-universal.sh biodb_1.14.0.tar.gz /Library/Frameworks/R.framework/Resources/bin/R biodb.buildbin-libdir StartedAt: 2025-02-12 14:13:35 -0500 (Wed, 12 Feb 2025) EndedAt: 2025-02-12 14:14:41 -0500 (Wed, 12 Feb 2025) EllapsedTime: 65.5 seconds RetCode: 0 Status: OK PackageFile: biodb_1.14.0.tgz PackageFileSize: 4.404 MiB