Package: biocthis Version: 1.16.0 Command: /Library/Frameworks/R.framework/Resources/bin/R CMD build --keep-empty-dirs --no-resave-data biocthis StartedAt: 2025-01-27 17:23:40 -0500 (Mon, 27 Jan 2025) EndedAt: 2025-01-27 17:24:19 -0500 (Mon, 27 Jan 2025) EllapsedTime: 38.7 seconds RetCode: 0 Status: OK PackageFile: biocthis_1.16.0.tar.gz PackageFileSize: 657.9 KiB