Package: biocthis Version: 1.16.0 Command: rm -rf biocthis.buildbin-libdir && mkdir biocthis.buildbin-libdir && /Users/biocbuild/BBS/utils/build-universal.sh biocthis_1.16.0.tar.gz /Library/Frameworks/R.framework/Resources/bin/R biocthis.buildbin-libdir StartedAt: 2025-02-04 12:32:29 -0500 (Tue, 04 Feb 2025) EndedAt: 2025-02-04 12:32:38 -0500 (Tue, 04 Feb 2025) EllapsedTime: 9.7 seconds RetCode: 0 Status: OK PackageFile: biocthis_1.16.0.tgz PackageFileSize: 699.5 KiB