Package: biocthis Version: 1.16.0 Command: /Library/Frameworks/R.framework/Resources/bin/R CMD INSTALL biocthis StartedAt: 2025-02-03 16:18:33 -0500 (Mon, 03 Feb 2025) EndedAt: 2025-02-03 16:18:37 -0500 (Mon, 03 Feb 2025) EllapsedTime: 4.6 seconds RetCode: 0 Status: OK