Package: biocthis Version: 1.16.0 Command: /Library/Frameworks/R.framework/Resources/bin/R CMD check --install=check:biocthis.install-out.txt --library=/Library/Frameworks/R.framework/Resources/library --no-vignettes --timings biocthis_1.16.0.tar.gz StartedAt: 2025-02-04 12:43:58 -0500 (Tue, 04 Feb 2025) EndedAt: 2025-02-04 12:44:37 -0500 (Tue, 04 Feb 2025) EllapsedTime: 38.8 seconds RetCode: 0 Status: OK CheckDir: biocthis.Rcheck Warnings: 0