Package: biocthis Version: 1.16.0 Command: /Library/Frameworks/R.framework/Resources/bin/R CMD build --keep-empty-dirs --no-resave-data biocthis StartedAt: 2025-02-03 19:34:02 -0500 (Mon, 03 Feb 2025) EndedAt: 2025-02-03 19:34:20 -0500 (Mon, 03 Feb 2025) EllapsedTime: 18.2 seconds RetCode: 0 Status: OK PackageFile: biocthis_1.16.0.tar.gz PackageFileSize: 658 KiB