Package: biocroxytest Version: 1.2.0 Command: /Library/Frameworks/R.framework/Resources/bin/R CMD check --install=check:biocroxytest.install-out.txt --library=/Library/Frameworks/R.framework/Resources/library --no-vignettes --timings biocroxytest_1.2.0.tar.gz StartedAt: 2025-04-01 12:07:49 -0400 (Tue, 01 Apr 2025) EndedAt: 2025-04-01 12:08:24 -0400 (Tue, 01 Apr 2025) EllapsedTime: 35.5 seconds RetCode: 0 Status: OK CheckDir: biocroxytest.Rcheck Warnings: 0