Package: biocroxytest Version: 1.2.0 Command: /Library/Frameworks/R.framework/Resources/bin/R CMD build --keep-empty-dirs --no-resave-data biocroxytest StartedAt: 2025-03-31 19:30:27 -0400 (Mon, 31 Mar 2025) EndedAt: 2025-03-31 19:30:36 -0400 (Mon, 31 Mar 2025) EllapsedTime: 8.9 seconds RetCode: 0 Status: OK PackageFile: biocroxytest_1.2.0.tar.gz PackageFileSize: 2.493 MiB