Package: biocViews Version: 1.74.0 Command: /Library/Frameworks/R.framework/Resources/bin/R CMD INSTALL biocViews StartedAt: 2025-03-31 15:16:07 -0400 (Mon, 31 Mar 2025) EndedAt: 2025-03-31 15:16:16 -0400 (Mon, 31 Mar 2025) EllapsedTime: 8.9 seconds RetCode: 0 Status: OK