Package: biocGraph Version: 1.68.0 Command: F:\biocbuild\bbs-3.20-bioc\R\bin\R.exe CMD INSTALL biocGraph StartedAt: 2025-03-31 16:22:56 -0400 (Mon, 31 Mar 2025) EndedAt: 2025-03-31 16:23:14 -0400 (Mon, 31 Mar 2025) EllapsedTime: 18.0 seconds RetCode: 0 Status: OK