Package: biocGraph Version: 1.68.0 Command: chmod a+r biocGraph -R && F:\biocbuild\bbs-3.20-bioc\R\bin\R.exe CMD build --keep-empty-dirs --no-resave-data biocGraph StartedAt: 2025-01-27 17:35:20 -0500 (Mon, 27 Jan 2025) EndedAt: 2025-01-27 17:36:08 -0500 (Mon, 27 Jan 2025) EllapsedTime: 48.0 seconds RetCode: 0 Status: OK PackageFile: biocGraph_1.68.0.tar.gz PackageFileSize: 448.4 KiB