Package: biocGraph Version: 1.68.0 Command: rm -rf biocGraph.buildbin-libdir && mkdir biocGraph.buildbin-libdir && F:\biocbuild\bbs-3.20-bioc\R\bin\R.exe CMD INSTALL --build --library=biocGraph.buildbin-libdir biocGraph_1.68.0.tar.gz StartedAt: 2025-01-28 07:43:34 -0500 (Tue, 28 Jan 2025) EndedAt: 2025-01-28 07:43:54 -0500 (Tue, 28 Jan 2025) EllapsedTime: 20.4 seconds RetCode: 0 Status: OK PackageFile: biocGraph_1.68.0.zip PackageFileSize: 440.7 KiB