Package: biocGraph Version: 1.68.0 Command: /home/biocbuild/bbs-3.20-bioc/R/bin/R CMD INSTALL biocGraph StartedAt: 2025-03-31 15:28:55 -0400 (Mon, 31 Mar 2025) EndedAt: 2025-03-31 15:29:09 -0400 (Mon, 31 Mar 2025) EllapsedTime: 13.5 seconds RetCode: 0 Status: OK