Package: biocGraph Version: 1.68.0 Command: /Library/Frameworks/R.framework/Resources/bin/R CMD check --install=check:biocGraph.install-out.txt --library=/Library/Frameworks/R.framework/Resources/library --no-vignettes --timings biocGraph_1.68.0.tar.gz StartedAt: 2024-11-19 19:51:08 -0500 (Tue, 19 Nov 2024) EndedAt: 2024-11-19 19:57:26 -0500 (Tue, 19 Nov 2024) EllapsedTime: 377.7 seconds RetCode: 0 Status: OK CheckDir: biocGraph.Rcheck Warnings: 0