Package: biobtreeR Version: 1.18.0 Command: /home/biocbuild/R/R/bin/R CMD build --keep-empty-dirs --no-resave-data biobtreeR StartedAt: 2025-01-30 21:57:13 -0000 (Thu, 30 Jan 2025) EndedAt: 2025-01-30 21:58:06 -0000 (Thu, 30 Jan 2025) EllapsedTime: 53.0 seconds RetCode: 1 Status: ERROR PackageFile: None PackageFileSize: NA